{"text_format":"1","workbook":"xlsx","n_sheets":40,"sheets":["Start","Intro-1","Intro-2","Info","1","2","3","4","5","6","7","8","9","10","11","12","13","14","15","16","17","18","19","Scoring","iTable","iTable EBS","iTable JEB","iTable DEB","iTable EBSDEB","iTable KS","iTableEBS (2)","iTableEBS (3)","iTableEBS (4)","iTableJEB (2)","iTableJEB (3)","iTableDEB (2)","iTableDEB (3)","iTableDEB (4)","Index","Prints"],"not_rendered":{"charts":0,"images":58,"macros":1,"external_links":0,"defined_names":54,"comments":0,"pivot_tables":0},"unopened":[],"bounds":{"document_bytes":16777216,"sheet_cells":100000,"rows_first":2000,"rows_last":500,"rows_between":2000,"halvings":0,"cell_chars":16384,"cell_head_chars":4096},"cells_cut":0,"cells_raw":0,"read":"whole","date_system":"1900"}

{"sheet":"Start","index":0,"n_rows":0,"n_cols":0,"rows_kept":0,"cut":false,"hidden":false,"merged":[]}

{"sheet":"Intro-1","index":1,"n_rows":0,"n_cols":0,"rows_kept":0,"cut":false,"hidden":false,"merged":[[39,1,39,2],[30,1,30,2],[30,3,30,6],[31,1,31,2],[31,3,31,6],[32,3,32,6],[33,3,33,5],[34,3,34,5],[35,3,35,6],[36,3,36,7],[37,3,37,6],[38,3,38,6]]}

{"sheet":"Intro-2","index":2,"n_rows":0,"n_cols":0,"rows_kept":0,"cut":false,"hidden":false,"merged":[]}

{"sheet":"Info","index":3,"n_rows":19,"n_cols":14,"rows_kept":19,"cut":false,"hidden":false,"merged":[[1,1,1,7],[8,2,8,7],[9,2,9,7],[11,2,11,7],[3,2,3,7],[4,2,4,7],[5,2,5,7],[10,2,10,7],[6,2,6,4],[6,5,6,7],[7,2,7,4],[7,5,7,7]]}
[]
[null,"Institution and patient data"]
[]
[null,"Name of scorer"]
[null,"Name of patient"]
[null,"Hospital registration ID"]
[null,"Date of birth",null,null,null,"(Enter as dd/mm/yyyy)"]
[null,"Date of scoring",{"$f":"IF(C18=TRUE,TODAY(),\"\")","v":""}]
[null,"Age ",{"$f":"IF(ISBLANK(C7),0,IF(DATEDIF(C7,C8,\"y\")=0,\"\",DATEDIF(C7,C8,\"y\")&\" years,\")&IF(DATEDIF(C7,C8,\"ym\")=0,\"\",DATEDIF(C7,C8,\"ym\")&\" month(s), \")&IF(DATEDIF(C7,C8,\"md\")=0,\"\",DATEDIF(C7,C8,\"md\")&\" Days\"))","v":0}]
[null,"Sex"]
[]
[]
[]
[]
[]
[]
[]
[null,null,false]
[null,null,null,null,null,null,null,null,null,null,null,null,null,{"$f":"IF(N18=1,\"Male\",IF(N18=2,\"Female\"))","v":false}]

{"sheet":"1","index":4,"n_rows":20,"n_cols":13,"rows_kept":20,"cut":false,"hidden":false,"merged":[[1,19,1,20],[11,12,11,15],[2,12,10,15],[2,0,10,3],[11,0,11,3],[2,4,10,7],[11,4,11,7],[11,8,11,11],[2,8,10,11],[1,0,1,15]]}
[]
["Distribution of lesions",null,null,null,"Distribution of lesions"]
[]
[]
[]
[]
[]
[]
[]
[]
[]
["Generalised",null,null,null,"Limited",null,null,null,"Hands and feet",null,null,null,"Herpetiform"]
[null,null,null,"EBS-WC","EBS-K","EBS-DM","JEB-H","JEB-NH","DDEB","RDEB-HS","RDEB-NHS","KS"]
[null,null,null,{"$f":"IF(A20=3,1,0)","v":0},{"$f":"IF(A20=1,1,0)","v":0},{"$f":"IF(A20=4,1,0)","v":0},{"$f":"IF(A20=1,1,0)","v":0},{"$f":"IF(A20=1,1,0)","v":0},{"$f":"IF(A20=1,1,0)","v":0},{"$f":"IF(A20=1,1,0)","v":0},{"$f":"IF(A20=1,1,0)","v":0},{"$f":"IF(A20=1,1,0)","v":0}]
[null,null,null,null,{"$f":"IF(A20=2,1,0)","v":0},{"$f":"IF(A20=1,1,0)","v":0},null,null,{"$f":"IF(A20=2,1,0)","v":0},null,null,{"$f":"IF(A20=2,1,0)","v":0}]
[null,null,null,{"$f":"D14+D15","v":0},{"$f":"E14+E15","v":0},{"$f":"F14+F15","v":0},0,0,0,0,0,0]
[null,null,null,"EBS-WC","EBS-K","EBS-DM","JEB-H","JEB-NH","DDEB","RDEB-HS","RDEB-NHS","KS"]
[]
[null,null,null,"Hands & Feet","Generalised/","Herpetiform/","Generalised ","Generalised","Generalised/","Generalised","Generalised","Generalised/"]
[0,null,null,null," nm","Generalised",null,null,"Limited",null,null,"limited"]

{"sheet":"2","index":5,"n_rows":20,"n_cols":14,"rows_kept":20,"cut":false,"hidden":false,"merged":[[2,16,14,19],[2,0,14,15],[1,19,1,20],[1,0,1,15]]}
[]
["Excess Granulation tissue"]
[]
[]
[]
[]
[]
[]
[]
[]
[]
[]
[]
[]
[]
[0,null,null,null,null,"EBS-WC","EBS-K","EBS-DM","JEB-H","JEB-NH","DDEB","RDEB-HS","RDEB-NHS","KS"]
[null,null,null,null,null,"-","-","-","+","- or +","-","-","-","-"]
[null,null,null,null,null,{"$f":"IF(A16=2,1,0)","v":0},{"$f":"IF(A16=2,1,0)","v":0},{"$f":"IF(A16=2,1,0)","v":0},null,{"$f":"IF(A16=2,1,0)","v":0},{"$f":"IF(A16=2,1,0)","v":0},{"$f":"IF(A16=2,1,0)","v":0},{"$f":"IF(A16=2,1,0)","v":0},{"$f":"IF(A16=2,1,0)","v":0}]
[null,null,null,null,null,null,null,null,{"$f":"IF(A16=1,1,0)","v":0},{"$f":"IF(A16=1,1,0)","v":0}]
[null,null,null,null,null,{"$f":"SUM(F18,F19)","v":0},{"$f":"SUM(G18,G19)","v":0},0,0,0,0,0,0,0]

{"sheet":"3","index":6,"n_rows":20,"n_cols":17,"rows_kept":20,"cut":false,"hidden":false,"merged":[[1,18,1,20],[1,0,1,15]]}
[" "]
["Scarring"]
[0]
[]
[]
[]
[]
[]
[]
[]
[]
[]
[]
[]
[null,null,null,null,null,null,null,null,"EBS-WC","EBS-K","EBS-DM","JEB-H","JEB-NH","DDEB","RDEB-HS","RDEB-NHS","KS"]
[null,null,null,null,null,null,null,null,"-","-","-","-","- or +","+ or ++","+ or ++ ","+ or ++","- or +"]
[null,null,null,null,null,null,null,null,{"$f":"IF(A3=1,1,0)","v":0},{"$f":"IF(A3=1,1,0)","v":0},{"$f":"IF(A3=1,1,0)","v":0},{"$f":"IF(A3=1,1,0)","v":0},{"$f":"IF(A3=1,1,0)","v":0},null,null,null,{"$f":"IF(A3=1,1,0)","v":0}]
[null,null,null,null,null,null,null,null,null,null,null,null,{"$f":"IF(A3=2,1,0)","v":0},{"$f":"IF(A3=2,1,0)","v":0},{"$f":"IF(A3=2,1,0)","v":0},{"$f":"IF(A3=2,1,0)","v":0},{"$f":"IF(A3=2,1,0)","v":0}]
[null,null,null,null,null,null,null,null,null,null,null,null,null,{"$f":"IF(A3=3,1,0)","v":0},{"$f":"IF(A3=3,1,0)","v":0},{"$f":"IF(A3=3,1,0)","v":0}]
[null,null,null,null,null,null,null,null,{"$f":"I17+I18+I19","v":0},{"$f":"J17+J18+J19","v":0},0,0,0,0,0,0,0]

{"sheet":"4","index":7,"n_rows":22,"n_cols":19,"rows_kept":22,"cut":false,"hidden":false,"merged":[[2,16,15,20],[1,0,1,15],[1,19,1,20]]}
[]
["Milia",null,null,null,"Milia","Milia"]
[]
[]
[]
[]
[]
[]
[]
[]
[]
[]
[]
[0]
[]
[]
[null,null,null,null,null,null,null,null,null,null,"EBS-WC","EBS-K","EBS-DM","JEB-H","JEB-NH","DDEB","RDEB-HS","RDEB-NHS","KS"]
[null,null,null,null,null,null,null,null,null,null,"-","-","- or +","-","-","+ or ++","+ or ++","+ or ++","-"]
[null,null,null,null,null,null,null,null,null,null,{"$f":"IF(A14=1,1,0)","v":0},{"$f":"IF(A14=1,1,0)","v":0},{"$f":"IF(A14=1,1,0)","v":0},{"$f":"IF(A14=1,1,0)","v":0},{"$f":"IF(A14=1,1,0)","v":0},null,null,null,{"$f":"IF(A14=1,1,0)","v":0}]
[null,null,null,null,null,null,null,null,null,null,null,null,{"$f":"IF(A14=2,1,0)","v":0},null,null,{"$f":"IF(A14=2,1,0)","v":0},{"$f":"IF(A14=2,1,0)","v":0},{"$f":"IF(A14=2,1,0)","v":0}]
[null,null,null,null,null,null,null,null,null,null,null,null,null,null,null,{"$f":"IF(A14=3,1,0)","v":0},{"$f":"IF(A14=3,1,0)","v":0},{"$f":"IF(A14=3,1,0)","v":0}]
[null,null,null,null,null,null,null,null,null,null,{"$f":"K19+K20+K21","v":0},{"$f":"L19+L20+L21","v":0},0,0,0,0,0,0,0]

{"sheet":"5","index":8,"n_rows":21,"n_cols":18,"rows_kept":21,"cut":false,"hidden":false,"merged":[[14,8,14,15],[14,0,14,7],[1,4,1,11],[1,18,1,20]]}
[]
[null,null,null,null,"Nail dystrophy"]
[]
[]
[]
[]
[]
[]
[]
[]
[]
[]
[]
[0]
[]
[null,null,null,null,null,null,null,null,null,"EBS-WC","EBS-K","EBS-DM","JEB-H","JEB-NH","DDEB","RDEB-HS","RDEB-NHS","KS"]
[null,null,null,null,null,null,null,null,null,"-","-","- or + or ++","+ or ++","- or + or ++ ","- or + or ++","- or + or ++","- or + or ++","- or +"]
[null,null,null,null,null,null,null,null,null,{"$f":"IF(A14=1,1,0)","v":0},{"$f":"IF(A14=1,1,0)","v":0},{"$f":"IF(A14=1,1,0)","v":0},null,{"$f":"IF(A14=1,1,0)","v":0},{"$f":"IF(A14=1,1,0)","v":0},{"$f":"IF(A14=1,1,0)","v":0},{"$f":"IF(A14=1,1,0)","v":0},{"$f":"IF(A14=1,1,0)","v":0}]
[null,null,null,null,null,null,null,null,null,null,null,{"$f":"IF(A14=2,1,0)","v":0},{"$f":"IF(A14=2,1,0)","v":0},{"$f":"IF(A14=2,1,0)","v":0},{"$f":"IF(A14=2,1,0)","v":0},{"$f":"IF(A14=2,1,0)","v":0},{"$f":"IF(A14=2,1,0)","v":0},{"$f":"IF(A14=2,1,0)","v":0}]
[null,null,null,null,null,null,null,null,null,null,null,{"$f":"IF(A14=3,1,0)","v":0},{"$f":"IF(A14=3,1,0)","v":0},{"$f":"IF(A14=3,1,0)","v":0},{"$f":"IF(A14=3,1,0)","v":0},{"$f":"IF(A14=3,1,0)","v":0},{"$f":"IF(A14=3,1,0)","v":0}]
[null,null,null,null,null,null,null,null,null,{"$f":"SUM(J18,J19,J20)","v":0},{"$f":"SUM(K18,K19,K20)","v":0},0,0,0,0,0,0,0]

{"sheet":"6","index":9,"n_rows":20,"n_cols":19,"rows_kept":20,"cut":false,"hidden":false,"merged":[[1,4,1,11],[1,18,1,20]]}
[]
[null,null,null,null,"Nail loss"]
[]
[]
[]
[]
[]
[]
[]
[]
[]
[]
[]
[0]
[null,null,null,null,null,null,null,null,null,null,"EBS-WC","EBS-K","EBS-DM","JEB-H","JEB-NH","DDEB","RDEB-HS","RDEB-NHS","KS"]
[null,null,null,null,null,null,null,null,null,null,"-","-","-","+ or ++ ","- or + or ++ ","- or +","+ or ++","- or + or ++","-"]
[null,null,null,null,null,null,null,null,null,null,{"$f":"IF(A14=1,1,0)","v":0},{"$f":"IF(A14=1,1,0)","v":0},{"$f":"IF(A14=1,1,0)","v":0},null,{"$f":"IF(A14=1,1,0)","v":0},{"$f":"IF(A14=1,1,0)","v":0},null,{"$f":"IF(A14=1,1,0)","v":0},{"$f":"IF(A14=1,1,0)","v":0}]
[null,null,null,null,null,null,null,null,null,null,null,null,null,{"$f":"IF(A14=2,1,0)","v":0},{"$f":"IF(A14=2,1,0)","v":0},{"$f":"IF(A14=2,1,0)","v":0},{"$f":"IF(A14=2,1,0)","v":0},{"$f":"IF(A14=2,1,0)","v":0}]
[null,null,null,null,null,null,null,null,null,null,null,null,null,{"$f":"IF(A14=3,1,0)","v":0},{"$f":"IF(A14=3,1,0)","v":0},null,{"$f":"IF(A14=3,1,0)","v":0},{"$f":"IF(A14=3,1,0)","v":0}]
[null,null,null,null,null,null,null,null,null,null,{"$f":"SUM(K17,K18,K19)","v":0},{"$f":"SUM(L17,L18,L19)","v":0},0,0,0,0,0,0,0]

{"sheet":"7","index":10,"n_rows":22,"n_cols":18,"rows_kept":22,"cut":false,"hidden":false,"merged":[[1,18,1,20],[1,4,1,12]]}
[]
[null,null,null,null,"Mucosal erosions"]
[]
[]
[]
[]
[]
[]
[]
[]
[]
[]
[]
[]
[]
[0]
[null,null,null,null,null,null,null,null,null,"EBS-WC","EBS-K","EBS-DM","JEB-H","JEB-NH","DDEB","RDEB-HS","RDEB-NHS","KS"]
[null,null,null,null,null,null,null,null,null,"-","-         ","- or +","+ or ++","- or +","-  or  +","+ or ++","- or +","- or +"]
[null,null,null,null,null,null,null,null,null,{"$f":"IF(A16=1,1,0)","v":0},{"$f":"IF(A16=1,1,0)","v":0},{"$f":"IF(A16=1,1,0)","v":0},null,{"$f":"IF(A16=1,1,0)","v":0},{"$f":"IF(A16=1,1,0)","v":0},null,{"$f":"IF(A16=1,1,0)","v":0},{"$f":"IF(A16=1,1,0)","v":0}]
[null,null,null,null,null,null,null,null,null,null,null,null,{"$f":"IF(A16=3,1,0)","v":0},null,null,{"$f":"IF(A16=3,1,0)","v":0}]
[null,null,null,null,null,null,null,null,null,null,null,{"$f":"IF(A16=2,1,0)","v":0},{"$f":"IF(A16=2,1,0)","v":0},{"$f":"IF(A16=2,1,0)","v":0},{"$f":"IF(A16=2,1,0)","v":0},{"$f":"IF(A16=2,1,0)","v":0},{"$f":"IF(A16=2,1,0)","v":0},{"$f":"IF(A16=2,1,0)","v":0}]
[null,null,null,null,null,null,null,null,null,{"$f":"SUM(J19,J20,J21)","v":0},{"$f":"SUM(K19,K20,K21)","v":0},0,0,0,0,0,0,0]

{"sheet":"8","index":11,"n_rows":20,"n_cols":18,"rows_kept":20,"cut":false,"hidden":false,"merged":[[1,4,1,12],[1,18,1,20]]}
[]
[null,null,null,null,"Eye Involvement"]
[]
[]
[]
[]
[]
[]
[]
[]
[]
[]
[]
[0]
[null,null,null,null,null,null,null,null,null,"EBS-WC","EBS-K","EBS-DM","JEB-H","JEB-NH","DDEB","RDEB-HS","RDEB-NHS","KS"]
[null,null,null,null,null,null,null,null,null,"-","-","-","- or + or ++","- or + or ++","-","- or + or ++","- or + or ++","-"]
[null,null,null,null,null,null,null,null,null,{"$f":"IF(A14=1,1,0)","v":0},{"$f":"IF(A14=1,1,0)","v":0},{"$f":"IF(A14=1,1,0)","v":0},{"$f":"IF(A14=1,1,0)","v":0},{"$f":"IF(A14=1,1,0)","v":0},{"$f":"IF(A14=1,1,0)","v":0},{"$f":"IF(A14=1,1,0)","v":0},{"$f":"IF(A14=1,1,0)","v":0},{"$f":"IF(A14=1,1,0)","v":0}]
[null,null,null,null,null,null,null,null,null,null,null,null,{"$f":"IF(A14=2,1,0)","v":0},{"$f":"IF(A14=2,1,0)","v":0},null,{"$f":"IF(A14=2,1,0)","v":0},{"$f":"IF(A14=2,1,0)","v":0}]
[null,null,null,null,null,null,null,null,null,null,null,null,{"$f":"IF(A14=3,1,0)","v":0},{"$f":"IF(A14=3,1,0)","v":0},null,{"$f":"IF(A14=3,1,0)","v":0},{"$f":"IF(A14=3,1,0)","v":0}]
[null,null,null,null,null,null,null,null,null,{"$f":"SUM(J17,J18,J19)","v":0},{"$f":"SUM(K17,K18,K19)","v":0},0,0,0,0,0,0,0]

{"sheet":"9","index":12,"n_rows":20,"n_cols":18,"rows_kept":20,"cut":false,"hidden":false,"merged":[[1,4,1,12],[1,18,1,20]]}
[]
[null,null,null,null,"Involvement of respiratory tract"]
[]
[]
[]
[]
[]
[]
[]
[]
[]
[]
[]
[0]
[null,null,null,null,null,null,null,null,null,"EBS-WC","EBS-K","EBS-DM","JEB-H","JEB-NH","DDEB","RDEB-HS","RDEB-NHS","KS"]
[null,null,null,null,null,null,null,null,null,"-","-","-","+ or ++","- or +","-","- or +","- or +","-"]
[null,null,null,null,null,null,null,null,null,{"$f":"IF(A14=1,1,0)","v":0},{"$f":"IF(A14=1,1,0)","v":0},{"$f":"IF(A14=1,1,0)","v":0},null,{"$f":"IF(A14=1,1,0)","v":0},{"$f":"IF(A14=1,1,0)","v":0},{"$f":"IF(A14=1,1,0)","v":0},{"$f":"IF(A14=1,1,0)","v":0},{"$f":"IF(A14=1,1,0)","v":0}]
[null,null,null,null,null,null,null,null,null,null,null,null,{"$f":"IF(A14=2,1,0)","v":0},{"$f":"IF(A14=2,1,0)","v":0},null,{"$f":"IF(A14=2,1,0)","v":0},{"$f":"IF(A14=2,1,0)","v":0}]
[null,null,null,null,null,null,null,null,null,null,null,null,{"$f":"IF(A14=3,1,0)","v":0}]
[null,null,null,null,null,null,null,null,null,{"$f":"J17+J18+J19","v":0},{"$f":"K17+K18+K19","v":0},0,0,0,0,0,0,0]

{"sheet":"10","index":13,"n_rows":20,"n_cols":18,"rows_kept":20,"cut":false,"hidden":false,"merged":[[1,18,1,20],[1,3,1,12]]}
[]
[null,null,null,"Microstomia/Ankyloglossia"]
[]
[]
[]
[]
[]
[]
[]
[]
[]
[]
[]
[0]
[null,null,null,null,null,null,null,null,null,"EBS-WC","EBS-K","EBS-DM","JEB-H","JEB-NH","DDEB","RDEB-HS","RDEB-NHS","KS"]
[null,null,null,null,null,null,null,null,null,"-","-","-","-","-","-","- or +","- or +","-"]
[null,null,null,null,null,null,null,null,null,{"$f":"IF(A14=1,1,0)","v":0},{"$f":"IF(A14=1,1,0)","v":0},{"$f":"IF(A14=1,1,0)","v":0},{"$f":"IF(A14=1,1,0)","v":0},{"$f":"IF(A14=1,1,0)","v":0},{"$f":"IF(A14=1,1,0)","v":0},{"$f":"IF(A14=1,1,0)","v":0},{"$f":"IF(A14=1,1,0)","v":0},{"$f":"IF(A14=1,1,0)","v":0}]
[null,null,null,null,null,null,null,null,null,null,null,null,null,null,null,{"$f":"IF(A14=2,1,0)","v":0},{"$f":"IF(A14=2,1,0)","v":0}]
[]
[null,null,null,null,null,null,null,null,null,{"$f":"SUM(J18,J17)","v":0},{"$f":"SUM(K18,K17)","v":0},0,0,0,0,0,0,0]

{"sheet":"11","index":14,"n_rows":20,"n_cols":17,"rows_kept":20,"cut":false,"hidden":false,"merged":[[1,4,1,12],[1,18,1,20]]}
[]
[null,null,null,null,"Dental enamel"]
[]
[]
[]
[]
[]
[]
[]
[]
[]
[]
[]
[0]
[null,null,null,null,null,null,null,null,"EBS-WC","EBS-K","EBS-DM","JEB-H","JEB-NH","DDEB","RDEB-HS","RDEB-NHS","KS"]
[null,null,null,null,null,null,null,null,"- or NA","- or NA","- or NA","+ or NA","+ or NA","- or NA","- or NA","- or NA","- or NA"]
[null,null,null,null,null,null,null,null,{"$f":"IF(A14=1,1,0)","v":0},{"$f":"IF(A14=1,1,0)","v":0},{"$f":"IF(A14=1,1,0)","v":0},{"$f":"IF(A14=1,0,0)","v":0},{"$f":"IF(A14=1,0,0)","v":0},{"$f":"IF(A14=1,1,0)","v":0},{"$f":"IF(A14=1,1,0)","v":0},{"$f":"IF(A14=1,1,0)","v":0},{"$f":"IF(A14=1,1,0)","v":0}]
[null,null,null,null,null,null,null,null,null,null,null,{"$f":"IF(A14=2,1,0)","v":0},{"$f":"IF(A14=2,1,0)","v":0}]
[null,null,null,null,null,null,null,null,{"$f":"IF(A14=3,0,0)","v":0},{"$f":"IF(A14=3,0,0)","v":0},{"$f":"IF(A14=3,0,0)","v":0},{"$f":"IF(A14=3,0,0)","v":0},{"$f":"IF(A14=3,0,0)","v":0},{"$f":"IF(A14=3,0,0)","v":0},{"$f":"IF(A14=3,0,0)","v":0},{"$f":"IF(A14=3,0,0)","v":0},{"$f":"IF(A14=3,0,0)","v":0}]
[null,null,null,null,null,null,null,null,{"$f":"SUM(I18,I17,I19)","v":0},{"$f":"SUM(J18,J17,J19)","v":0},0,0,0,0,0,0,0]

{"sheet":"12","index":15,"n_rows":19,"n_cols":17,"rows_kept":19,"cut":false,"hidden":false,"merged":[[1,4,1,12],[1,18,1,20]]}
[]
[null,null,null,null,"Palmoplantar Keratoderma"]
[]
[]
[]
[]
[]
[]
[]
[]
[]
[]
[]
[0,null,null,null,null,null,null,null,"EBS-WC","EBS-K","EBS-DM","JEB-H","JEB-NH","DDEB","RDEB-HS","RDEB-NHS","KS"]
[null,null,null,null,null,null,null,null,"- or +","- or +","- or + or ++","-","-","-","-","-","- or +"]
[null,null,null,null,null,null,null,null,{"$f":"IF(A14=1,1,0)","v":0},{"$f":"IF(A14=1,1,0)","v":0},{"$f":"IF(A14=1,1,0)","v":0},{"$f":"IF(A14=1,1,0)","v":0},{"$f":"IF(A14=1,1,0)","v":0},{"$f":"IF(A14=1,1,0)","v":0},{"$f":"IF(A14=1,1,0)","v":0},{"$f":"IF(A14=1,1,0)","v":0},{"$f":"IF(A14=1,1,0)","v":0}]
[null,null,null,null,null,null,null,null,{"$f":"IF(A14=2,1,0)","v":0},{"$f":"IF(A14=2,1,0)","v":0},{"$f":"IF(A14=2,1,0)","v":0},null,null,null,null,null,{"$f":"IF(A14=2,1,0)","v":0}]
[null,null,null,null,null,null,null,null,null,null,{"$f":"IF(A14=3,1,0)","v":0}]
[null,null,null,null,null,null,null,null,{"$f":"SUM(I16,I17,I18)","v":0},{"$f":"SUM(J16,J17,J18)","v":0},0,0,0,0,0,0,0]

{"sheet":"13","index":16,"n_rows":20,"n_cols":16,"rows_kept":20,"cut":false,"hidden":false,"merged":[[1,4,1,12],[1,18,1,20]]}
[]
[null,null,null,null,"Chronic Wounds"]
[]
[]
[]
[]
[]
[]
[]
[]
[]
[]
[]
[0]
[null,null,null,null,null,null,null,"EBS-WC","EBS-K","EBS-DM","JEB-H","JEB-NH","DDEB","RDEB-HS","RDEB-NHS","KS"]
[null,null,null,null,null,null,null,"-","-","-","- or +","- or +","- or +","- or + or ++","- or +","-  or +"]
[null,null,null,null,null,null,null,{"$f":"IF(A14=1,1,0)","v":0},{"$f":"IF(A14=1,1,0)","v":0},{"$f":"IF(A14=1,1,0)","v":0},{"$f":"IF(A14=1,1,0)","v":0},{"$f":"IF(A14=1,1,0)","v":0},{"$f":"IF(A14=1,1,0)","v":0},{"$f":"IF(A14=1,1,0)","v":0},{"$f":"IF(A14=1,1,0)","v":0},{"$f":"IF(A14=1,1,0)","v":0}]
[null,null,null,null,null,null,null,null,null,null,{"$f":"IF(A14=2,1,0)","v":0},{"$f":"IF(A14=2,1,0)","v":0},{"$f":"IF(A14=2,1,0)","v":0},{"$f":"IF(A14=2,1,0)","v":0},{"$f":"IF(A14=2,1,0)","v":0},{"$f":"IF(A14=2,1,0)","v":0}]
[null,null,null,null,null,null,null,null,null,null,null,null,null,{"$f":"IF(A14=3,1,0)","v":0}]
[null,null,null,null,null,null,null,{"$f":"H17+H18+H19","v":0},{"$f":"I17+I18+I19","v":0},0,0,0,0,0,0,0]

{"sheet":"14","index":17,"n_rows":19,"n_cols":16,"rows_kept":19,"cut":false,"hidden":false,"merged":[[1,4,1,12],[1,18,1,20]]}
[]
[null,null,null,null,"Syndactyly"]
[]
[]
[]
[]
[]
[]
[]
[]
[]
[]
[]
[0,null,null,null,null,null,null,"EBS-WC","EBS-K","EBS-DM","JEB-H","JEB-NH","DDEB","RDEB-HS","RDEB-NHS","KS"]
[null,null,null,null,null,null,null,"-","-","-","-","-","-","+ or ++","- or +","- or +"]
[null,null,null,null,null,null,null,{"$f":"IF(A14=1,1,0)","v":0},{"$f":"IF(A14=1,1,0)","v":0},{"$f":"IF(A14=1,1,0)","v":0},{"$f":"IF(A14=1,1,0)","v":0},{"$f":"IF(A14=1,1,0)","v":0},{"$f":"IF(A14=1,1,0)","v":0},null,{"$f":"IF(A14=1,1,0)","v":0},{"$f":"IF(A14=1,1,0)","v":0}]
[null,null,null,null,null,null,null,null,null,null,null,null,null,{"$f":"IF(A14=2,1,0)","v":0},{"$f":"IF(A14=2,1,0)","v":0},{"$f":"IF(A14=2,1,0)","v":0}]
[null,null,null,null,null,null,null,null,null,null,null,null,null,{"$f":"IF(A14=3,1,0)","v":0}]
[null,null,null,null,null,null,null,{"$f":"H16+H17+H18","v":0},{"$f":"I16+I17+I18","v":0},0,0,0,0,0,0,0]

{"sheet":"15","index":18,"n_rows":19,"n_cols":14,"rows_kept":19,"cut":false,"hidden":false,"merged":[[1,4,1,12],[1,18,1,20]]}
[]
[null,null,null,null,"Alopecia"]
[]
[]
[]
[]
[]
[]
[]
[]
[]
[]
[0]
[null,null,null,null,null,"EBS-WC","EBS-K","EBS-DM","JEB-H","JEB-NH","DDEB","RDEB-HS","RDEB-NHS","KS"]
[null,null,null,null,null,"-","-","-","-","+ or ++","-","- or +","- or +","-"]
[null,null,null,null,null,{"$f":"IF(A13=1,1,0)","v":0},{"$f":"IF(A13=1,1,0)","v":0},{"$f":"IF(A13=1,1,0)","v":0},{"$f":"IF(A13=1,1,0)","v":0},null,{"$f":"IF(A13=1,1,0)","v":0},{"$f":"IF(A13=1,1,0)","v":0},{"$f":"IF(A13=1,1,0)","v":0},{"$f":"IF(A13=1,1,0)","v":0}]
[null,null,null,null,null,null,null,null,null,{"$f":"IF(A13=2,1,0)","v":0},null,{"$f":"IF(A13=2,1,0)","v":0},{"$f":"IF(A13=2,1,0)","v":0}]
[null,null,null,null,null,null,null,null,null,{"$f":"IF(A13=3,1,0)","v":0}]
[null,null,null,null,null,{"$f":"F16+F17+F18","v":0},{"$f":"G16+G17+G18","v":0},0,0,0,0,0,0,0]

{"sheet":"16","index":19,"n_rows":17,"n_cols":14,"rows_kept":17,"cut":false,"hidden":false,"merged":[[1,4,1,12],[1,18,1,20]]}
[]
[null,null,null,null,"Poikiloderma"]
[]
[]
[]
[]
[]
[]
[]
[]
[]
[]
[0,null,null,null,null,"EBS-WC","EBS-K","EBS-DM","JEB-H","JEB-NH","DDEB","RDEB-HS","RDEB-NHS","KS"]
[null,null,null,null,null,"-","-","-","-","-","-","-","-","+"]
[null,null,null,null,null,{"$f":"IF(A13=1,1,0)","v":0},{"$f":"IF(A13=1,1,0)","v":0},{"$f":"IF(A13=1,1,0)","v":0},{"$f":"IF(A13=1,1,0)","v":0},{"$f":"IF(A13=1,1,0)","v":0},{"$f":"IF(A13=1,1,0)","v":0},{"$f":"IF(A13=1,1,0)","v":0},{"$f":"IF(A13=1,1,0)","v":0}]
[null,null,null,null,null,null,null,null,null,null,null,null,null,{"$f":"IF(A13=2,1,0)","v":0}]
[null,null,null,null,null,{"$f":"F15+F16","v":0},{"$f":"G15+G16","v":0},0,0,0,0,0,0,0]

{"sheet":"17","index":20,"n_rows":17,"n_cols":14,"rows_kept":17,"cut":false,"hidden":false,"merged":[[1,4,1,12],[1,18,1,20],[0,0,0,16383]]}
[]
[null,null,null,null,"Relative Growth Failure"]
[]
[]
[]
[]
[]
[]
[]
[]
[]
[null,null,null,null,null,"EBS-WC","EBS-K","EBS-DM","JEB-H","JEB-NH","DDEB","RDEB-HS","RDEB-NHS","KS"]
[0,null,null,null,null,"-","-","-","+ or ++","- or +","-","+ or ++","- or +","- or +"]
[null,null,null,null,null,{"$f":"IF(A13=1,1,0)","v":0},{"$f":"IF(A13=1,1,0)","v":0},{"$f":"IF(A13=1,1,0)","v":0},null,{"$f":"IF(A13=1,1,0)","v":0},{"$f":"IF(A13=1,1,0)","v":0},null,{"$f":"IF(A13=1,1,0)","v":0},{"$f":"IF(A13=1,1,0)","v":0}]
[null,null,null,null,null,null,null,null,{"$f":"IF(A13=2,1,0)","v":0},{"$f":"IF(A13=2,1,0)","v":0},null,{"$f":"IF(A13=2,1,0)","v":0},{"$f":"IF(A13=2,1,0)","v":0},{"$f":"IF(A13=2,1,0)","v":0}]
[null,null,null,null,null,null,null,null,{"$f":"IF(A13=3,1,0)","v":0},null,null,{"$f":"IF(A13=3,1,0)","v":0}]
[null,null,null,null,null,{"$f":"F14+F15+F16","v":0},{"$f":"G14+G15+G16","v":0},0,0,0,0,0,0,0]

{"sheet":"18","index":21,"n_rows":17,"n_cols":15,"rows_kept":17,"cut":false,"hidden":false,"merged":[[1,4,1,12],[1,18,1,20]]}
[]
[null,null,null,null,"Survival after 2 year"]
[]
[]
[]
[]
[]
[]
[]
[]
[]
[0]
[null,null,null,null,null,null,"EBS-WC","EBS-K","EBS-DM","JEB-H","JEB-NH","DDEB","RDEB-HS","RDEB-NHS","KS"]
[null,null,null,null,null,null,"+ or NA","+ or NA","+ or NA","- or NA","+ or NA","+ or NA","+ or NA","+ or NA","+ or NA"]
[null,null,null,null,null,null,{"$f":"IF(A12=1,1,0)","v":0},{"$f":"IF(A12=1,1,0)","v":0},{"$f":"IF(A12=1,1,0)","v":0},null,{"$f":"IF(A12=1,1,0)","v":0},{"$f":"IF(A12=1,1,0)","v":0},{"$f":"IF(A12=1,1,0)","v":0},{"$f":"IF(A12=1,1,0)","v":0},{"$f":"IF(A12=1,1,0)","v":0}]
[null,null,null,null,null,null,null,null,null,{"$f":"IF(A12=2,1,0)","v":0}]
[null,null,null,null,null,null,{"$f":"G15+G16","v":0},{"$f":"H15+H16","v":0},0,0,0,0,0,0,0]

{"sheet":"19","index":22,"n_rows":16,"n_cols":14,"rows_kept":16,"cut":false,"hidden":false,"merged":[[2,16,10,20],[1,4,1,12],[1,18,1,20]]}
[]
[null,null,null,null,"Parents affected"]
[]
[]
[]
[]
[]
[]
[]
[]
[]
[0,null,null,null,null,"EBS-WC","EBS-K","EBS-DM","JEB-H","JEB-NH","DDEB","RDEB-HS","RDEB-NHS","KS"]
[null,null,null,null,null,"+ or NA","+ or NA","- or + or NA","- or NA","- or NA","+ or NA","- or NA","- or NA","- or NA"]
[null,null,null,null,null,null,null,{"$f":"IF(A12=1,1,0)","v":0},{"$f":"IF(A12=1,1,0)","v":0},{"$f":"IF(A12=1,1,0)","v":0},null,{"$f":"IF(A12=1,1,0)","v":0},{"$f":"IF(A12=1,1,0)","v":0},{"$f":"IF(A12=1,1,0)","v":0}]
[null,null,null,null,null,{"$f":"IF(A12=2,1,0)","v":0},{"$f":"IF(A12=2,1,0)","v":0},{"$f":"IF(A12=2,1,0)","v":0},null,null,{"$f":"IF(A12=2,1,0)","v":0}]
[null,null,null,null,null,{"$f":"F14+F15","v":0},{"$f":"G14+G15","v":0},0,0,0,0,0,0,0]

{"sheet":"Scoring","index":23,"n_rows":24,"n_cols":11,"rows_kept":24,"cut":false,"hidden":false,"merged":[[1,2,1,4],[1,5,1,6],[1,7,1,9]]}
[]
[null,null,"EB simplex",null,null,"Junctional EB",null,"Dystrophic EB"]
[null,null,"EBS-L","EBS-GI","EBS-GS","JEB-GS","JEB-GI","DDEB","RDEB-GS","RDEB-GI","KS"]
[1,"Distribution of skin lesions",{"$f":"'1'!D16","v":0},{"$f":"'1'!E16","v":0},{"$f":"'1'!F16","v":0},{"$f":"'1'!G16","v":0},{"$f":"'1'!H16","v":0},{"$f":"'1'!I16","v":0},{"$f":"'1'!J16","v":0},{"$f":"'1'!K16","v":0},{"$f":"'1'!L16","v":0}]
[2,"Excess Granulation tissue",{"$f":"'2'!F20","v":0},{"$f":"'2'!G20","v":0},{"$f":"'2'!H20","v":0},{"$f":"'2'!I20","v":0},{"$f":"'2'!J20","v":0},{"$f":"'2'!K20","v":0},{"$f":"'2'!L20","v":0},{"$f":"'2'!M20","v":0},{"$f":"'2'!N20","v":0}]
[3,"Scarring ",{"$f":"'3'!I20","v":0},{"$f":"'3'!J20","v":0},{"$f":"'3'!K20","v":0},{"$f":"'3'!L20","v":0},{"$f":"'3'!M20","v":0},{"$f":"'3'!N20","v":0},{"$f":"'3'!O20","v":0},{"$f":"'3'!P20","v":0},{"$f":"'3'!Q20","v":0}]
[4,"Milia ",{"$f":"'4'!K22","v":0},{"$f":"'4'!L22","v":0},{"$f":"'4'!M22","v":0},{"$f":"'4'!N22","v":0},{"$f":"'4'!O22","v":0},{"$f":"'4'!P22","v":0},{"$f":"'4'!Q22","v":0},{"$f":"'4'!R22","v":0},{"$f":"'4'!S22","v":0}]
[5,"Nail Dystrophy",{"$f":"'5'!J21","v":0},{"$f":"'5'!K21","v":0},{"$f":"'5'!L21","v":0},{"$f":"'5'!M21","v":0},{"$f":"'5'!N21","v":0},{"$f":"'5'!O21","v":0},{"$f":"'5'!P21","v":0},{"$f":"'5'!Q21","v":0},{"$f":"'5'!R21","v":0}]
[6,"Nail loss",{"$f":"'6'!K20","v":0},{"$f":"'6'!L20","v":0},{"$f":"'6'!M20","v":0},{"$f":"'6'!N20","v":0},{"$f":"'6'!O20","v":0},{"$f":"'6'!P20","v":0},{"$f":"'6'!Q20","v":0},{"$f":"'6'!R20","v":0},{"$f":"'6'!S20","v":0}]
[7,"Mucosal erosions",{"$f":"'7'!J22","v":0},{"$f":"'7'!K22","v":0},{"$f":"'7'!L22","v":0},{"$f":"'7'!M22","v":0},{"$f":"'7'!N22","v":0},{"$f":"'7'!O22","v":0},{"$f":"'7'!P22","v":0},{"$f":"'7'!Q22","v":0},{"$f":"'7'!R22","v":0}]
[8,"Eye involvement",{"$f":"'8'!J20","v":0},{"$f":"'8'!K20","v":0},{"$f":"'8'!L20","v":0},{"$f":"'8'!M20","v":0},{"$f":"'8'!N20","v":0},{"$f":"'8'!O20","v":0},{"$f":"'8'!P20","v":0},{"$f":"'8'!Q20","v":0},{"$f":"'8'!R20","v":0}]
[9,"Hoarseness",{"$f":"'9'!J20","v":0},{"$f":"'9'!K20","v":0},{"$f":"'9'!L20","v":0},{"$f":"'9'!M20","v":0},{"$f":"'9'!N20","v":0},{"$f":"'9'!O20","v":0},{"$f":"'9'!P20","v":0},{"$f":"'9'!Q20","v":0},{"$f":"'9'!R20","v":0}]
[10,"Microstomia/Ankyloglossia",{"$f":"'10'!J20","v":0},{"$f":"'10'!K20","v":0},{"$f":"'10'!L20","v":0},{"$f":"'10'!M20","v":0},{"$f":"'10'!N20","v":0},{"$f":"'10'!O20","v":0},{"$f":"'10'!P20","v":0},{"$f":"'10'!Q20","v":0},{"$f":"'10'!R20","v":0}]
[11,"Poor Dental Enamel",{"$f":"'11'!I20","v":0},{"$f":"'11'!J20","v":0},{"$f":"'11'!K20","v":0},{"$f":"'11'!L20","v":0},{"$f":"'11'!M20","v":0},{"$f":"'11'!N20","v":0},{"$f":"'11'!O20","v":0},{"$f":"'11'!P20","v":0},{"$f":"'11'!Q20","v":0}]
[12,"Keratoderma",{"$f":"'12'!I19","v":0},{"$f":"'12'!J19","v":0},{"$f":"'12'!K19","v":0},{"$f":"'12'!L19","v":0},{"$f":"'12'!M19","v":0},{"$f":"'12'!N19","v":0},{"$f":"'12'!O19","v":0},{"$f":"'12'!P19","v":0},{"$f":"'12'!Q19","v":0}]
[13,"Chronic Wounds",{"$f":"'13'!H20","v":0},{"$f":"'13'!I20","v":0},{"$f":"'13'!J20","v":0},{"$f":"'13'!K20","v":0},{"$f":"'13'!L20","v":0},{"$f":"'13'!M20","v":0},{"$f":"'13'!N20","v":0},{"$f":"'13'!O20","v":0},{"$f":"'13'!P20","v":0}]
[14,"Syndactyly",{"$f":"'14'!H19","v":0},{"$f":"'14'!I19","v":0},{"$f":"'14'!J19","v":0},{"$f":"'14'!K19","v":0},{"$f":"'14'!L19","v":0},{"$f":"'14'!M19","v":0},{"$f":"'14'!N19","v":0},{"$f":"'14'!O19","v":0},{"$f":"'14'!P19","v":0}]
[15,"Alopecia ",{"$f":"'15'!F19","v":0},{"$f":"'15'!G19","v":0},{"$f":"'15'!H19","v":0},{"$f":"'15'!I19","v":0},{"$f":"'15'!J19","v":0},{"$f":"'15'!K19","v":0},{"$f":"'15'!L19","v":0},{"$f":"'15'!M19","v":0},{"$f":"'15'!N19","v":0}]
[16,"Poikiloderma",{"$f":"'16'!F17","v":0},{"$f":"'16'!G17","v":0},{"$f":"'16'!H17","v":0},{"$f":"'16'!I17","v":0},{"$f":"'16'!J17","v":0},{"$f":"'16'!K17","v":0},{"$f":"'16'!L17","v":0},{"$f":"'16'!M17","v":0},{"$f":"'16'!N17","v":0}]
[17,"Relative Growth Failure",{"$f":"'17'!F17","v":0},{"$f":"'17'!G17","v":0},{"$f":"'17'!H17","v":0},{"$f":"'17'!I17","v":0},{"$f":"'17'!J17","v":0},{"$f":"'17'!K17","v":0},{"$f":"'17'!L17","v":0},{"$f":"'17'!M17","v":0},{"$f":"'17'!N17","v":0}]
[18,"Survival after 2 yrs",{"$f":"'18'!G17","v":0},{"$f":"'18'!H17","v":0},{"$f":"'18'!I17","v":0},{"$f":"'18'!J17","v":0},{"$f":"'18'!K17","v":0},{"$f":"'18'!L17","v":0},{"$f":"'18'!M17","v":0},{"$f":"'18'!N17","v":0},{"$f":"'18'!O17","v":0}]
[19,"Parents affected",{"$f":"'19'!F16","v":0},{"$f":"'19'!G16","v":0},{"$f":"'19'!H16","v":0},{"$f":"'19'!I16","v":0},{"$f":"'19'!J16","v":0},{"$f":"'19'!K16","v":0},{"$f":"'19'!L16","v":0},{"$f":"'19'!M16","v":0},{"$f":"'19'!N16","v":0}]
[null,"Total Score",{"$f":"SUM(C4:C22)","v":0},0,0,0,0,0,0,0,0]
[null,null,"EBS-L","EBS-GI","EBS-GS","JEB-GS","JEB-GI","DDEB","RDEB-GS","RDEB-GI","KS"]

{"sheet":"iTable","index":24,"n_rows":12,"n_cols":5,"rows_kept":12,"cut":false,"hidden":false,"merged":[[7,4,7,5],[11,4,11,5],[1,4,1,5],[3,4,3,5],[5,4,5,5],[9,4,9,5]]}
["iTable!A1"]
[null,null,null,null,"Click on the box which best matches your patient, to identify Major Type : "]
[]
[null,null,null,null,"Lack of mucosal lesions, scarring and poikiloderma "]
[]
[null,null,null,null,"Mucosal lesions + excessive granulations"]
[]
[null,null,null,null,"Mucosal lesions + scarring + Milia"]
[]
[null,null,null,null,"Parent affected"]
[]
[null,null,null,null,"Poikiloderma"]

{"sheet":"iTable EBS","index":25,"n_rows":9,"n_cols":7,"rows_kept":9,"cut":false,"hidden":false,"merged":[[6,4,6,6],[7,4,7,6],[8,4,8,6],[4,4,4,6]]}
[]
[]
[null,null,null,null,"Lack of mucosal lesions, scarring and poikiloderma ",null,"EBSimplex"]
[]
[null,null,null,null,"Now click on the box which best matches your patient, to identify Sub-type :"]
[]
[null,null,null,null,"Localised to hands and feet"]
[null,null,null,null,"Limited blisters"]
[null,null,null,null,"Herpetiform blisters"]

{"sheet":"iTable JEB","index":26,"n_rows":8,"n_cols":7,"rows_kept":8,"cut":false,"hidden":false,"merged":[[6,4,6,6],[7,4,7,6],[4,4,4,6]]}
[]
[]
[null,null,null,null,"Mucosal lesions + excessive granulations",null,"JunctionalEB"]
[]
[null,null,null,null,"Now click on the box which best matches your patient, to identify Sub-type :"]
[]
[null,null,null,null,"Survival past 2 years"]
[null,null,null,null,"Death before 2 years"]

{"sheet":"iTable DEB","index":27,"n_rows":9,"n_cols":7,"rows_kept":9,"cut":false,"hidden":false,"merged":[[6,4,6,6],[7,4,7,6],[8,4,8,6],[4,4,4,6]]}
[]
[]
[null,null,null,null,"Mucosal lesions + scarring",null,"Dystrophic EB"]
[]
[null,null,null,null,"Now click on the box which best matches your patient, to identify Sub-type :"]
[]
[null,null,null,null,"Parent affected"]
[null,null,null,null,"Syndactyly"]
[null,null,null,null,"Microstomia/ankyloglossia"]

{"sheet":"iTable EBSDEB","index":28,"n_rows":12,"n_cols":7,"rows_kept":12,"cut":false,"hidden":false,"merged":[[4,4,4,6],[10,4,10,6],[11,4,11,6],[6,4,6,6],[7,4,7,6],[8,4,8,6]]}
[]
[]
[null,null,null,null,"Parent affected",null,"EBS or Dominant DEB"]
[]
[null,null,null,null,"Now click on the box which best matches your patient, to identify Sub-type :"]
[]
[null,null,null,null,"Localised to hands and feet"]
[null,null,null,null,"Limited blisters"]
[null,null,null,null,"Herpetiform blisters"]
[]
[null,null,null,null,"Syndactyly"]
[null,null,null,null,"Microstomia/ankyloglossia"]

{"sheet":"iTable KS","index":29,"n_rows":4,"n_cols":8,"rows_kept":4,"cut":false,"hidden":false,"merged":[]}
[]
[]
[]
[null,null,null,null,null,"Poikiloderma",null,"Kindler Syndrome"]

{"sheet":"iTableEBS (2)","index":30,"n_rows":10,"n_cols":6,"rows_kept":10,"cut":false,"hidden":false,"merged":[[6,4,6,5],[9,4,9,5]]}
[]
[]
[]
[null,null,null,null,"Lack of mucosal lesions, scarring and poikiloderma ","EBSimplex"]
[]
[]
[null,null,null,null,"Localised to hands and feet"]
[]
[]
[null,null,null,null,"EBS-loc"]

{"sheet":"iTableEBS (3)","index":31,"n_rows":10,"n_cols":6,"rows_kept":10,"cut":false,"hidden":false,"merged":[[6,4,6,5],[9,4,9,5]]}
[]
[]
[]
[null,null,null,null,"Lack of mucosal lesions, scarring and poikiloderma ","EBSimplex"]
[]
[]
[null,null,null,null,"Limited blisters"]
[]
[]
[null,null,null,null,"EBS-GI"]

{"sheet":"iTableEBS (4)","index":32,"n_rows":9,"n_cols":6,"rows_kept":9,"cut":false,"hidden":false,"merged":[[5,4,5,5],[8,4,8,5]]}
[]
[]
[null,null,null,null,"Lack of mucosal lesions, scarring and poikiloderma ","EBSimplex"]
[]
[]
[null,null,null,null,"Herpetiform blisters"]
[]
[]
[null,null,null,null,"EBS-GS"]

{"sheet":"iTableJEB (2)","index":33,"n_rows":9,"n_cols":6,"rows_kept":9,"cut":false,"hidden":false,"merged":[[5,4,5,5],[8,4,8,5],[3,4,4,5]]}
[]
[]
[null,null,null,null,"Mucosal lesions + excessive granulations","JunctionalEB"]
[]
[]
[null,null,null,null,"Survival past 2 years"]
[]
[]
[null,null,null,null,"JEB-GI"]

{"sheet":"iTableJEB (3)","index":34,"n_rows":9,"n_cols":6,"rows_kept":9,"cut":false,"hidden":false,"merged":[[5,4,5,5],[8,4,8,5]]}
[]
[]
[null,null,null,null,"Mucosal lesions + excessive granulations","JunctionalEB"]
[]
[]
[null,null,null,null,"Death before 2 years"]
[]
[]
[null,null,null,null,"JEB-GS"]

{"sheet":"iTableDEB (2)","index":35,"n_rows":9,"n_cols":6,"rows_kept":9,"cut":false,"hidden":false,"merged":[[5,4,5,5],[8,4,8,5]]}
[]
[]
[null,null,null,null,"Mucosal lesions + scarring","Dystrophic EB"]
[]
[]
[null,null,null,null,"Parent affected"]
[]
[]
[null,null,null,null,"DDEB"]

{"sheet":"iTableDEB (3)","index":36,"n_rows":9,"n_cols":6,"rows_kept":9,"cut":false,"hidden":false,"merged":[[5,4,5,5],[8,4,8,5]]}
[]
[]
[null,null,null,null,"Mucosal lesions + scarring","Dystrophic EB"]
[]
[]
[null,null,null,null,"Syndactyly"]
[]
[]
[null,null,null,null,"RDEB"]

{"sheet":"iTableDEB (4)","index":37,"n_rows":9,"n_cols":6,"rows_kept":9,"cut":false,"hidden":false,"merged":[[5,4,5,5],[8,4,8,5]]}
[]
[]
[null,null,null,null,"Mucosal lesions + scarring","Dystrophic EB"]
[]
[]
[null,null,null,null,"Microstomia/ankyloglossia"]
[]
[]
[null,null,null,null,"RDEB"]

{"sheet":"Index","index":38,"n_rows":0,"n_cols":0,"rows_kept":0,"cut":false,"hidden":false,"merged":[]}

{"sheet":"Prints","index":39,"n_rows":14,"n_cols":12,"rows_kept":14,"cut":false,"hidden":false,"merged":[[1,1,1,12],[11,2,13,2],[4,3,4,8],[9,3,9,7],[11,3,11,5],[11,6,11,7],[11,8,11,10],[6,3,6,6],[7,3,7,5],[6,8,6,12]]}
[]
[null,"Epidermolysis bullosa diagnostic matrix tool report"]
[]
[]
[null,null,"Scorer",{"$f":"Info!C4","v":0}]
[]
[null,null,"Patient",{"$f":"Info!C5","v":0},null,null,null,{"$f":"Info!N19","v":false},{"$f":"Info!C9","v":0}]
[null,null,null,{"$f":"Info!C6","v":0}]
[]
[null,null,"Date",{"$f":"Info!C8","v":""}]
[]
[null,null,"Score","EB simplex",null,null,"Junctional EB",null,"Dystrophic EB"]
[null,null,null,"EBS-L","EBS-GI","EBS-GS","JEB-GS","JEB-GI","DDEB","RDEB-GS","RDEB-GI","KS"]
[null,null,null,{"$f":"Scoring!C23","v":0},{"$f":"Scoring!D23","v":0},{"$f":"Scoring!E23","v":0},{"$f":"Scoring!F23","v":0},{"$f":"Scoring!G23","v":0},{"$f":"Scoring!H23","v":0},{"$f":"Scoring!I23","v":0},{"$f":"Scoring!J23","v":0},{"$f":"Scoring!K23","v":0}]